Uber Exif Photo
Make : Leica Camera AG
Camera Model Name : LEICA M10-R
Software : Adobe Photoshop Lightroom 6.14 (Windows)
Modify Date : 2021:08:27 14:59:36
Exposure Time : 1/125
F Number : 2.8
Exposure Program : Aperture-priority AE
ISO : 800
Date/Time Original : 2021:08:27 14:37:27
Create Date : 2021:08:27 14:37:27
Shutter Speed Value : 1/125
Aperture Value : 2.8
Exposure Compensation : 0
Max Aperture Value : 2.0
Metering Mode : Center-weighted average
Light Source : Unknown
Flash : No Flash
Focal Length : 50.0 mm
Color Space : sRGB
Scene Type : Directly photographed
Custom Rendered : Normal
Exposure Mode : Auto
White Balance : Auto
Digital Zoom Ratio : 0
Scene Capture Type : Standard
Contrast : Normal
Saturation : Normal
Sharpness : Hard
Serial Number : 5653576
Lens Info : 50mm f/2
Lens Make : Leica Camera AG
Lens Model : Summicron 1:2/50 Leitz
Profile Description : sRGB IEC61966-2.1
Creator Tool : Adobe Photoshop Lightroom 6.14 (Windows)
Format : image/jpeg
Correction Already Applied : False
Pitch Angle : -15.0290002823
Roll Angle : 2.6540000439
Focal Length 35mm : 50.0000000000
Target Aspect Ratio : 1.5000000000
Scaling Factor Height : 0.9249437451
Valid Crop Corners : True
Apply Automatically : False
Lens : Summicron 1:2/50 Leitz
Date Created : 2021:08:27 14:37:27
Version : 10.1
Process Version : 6.7
Auto White Version : 134348800
Color Temperature : 4850
Tint : -6
Luminance Smoothing : 0
Color Noise Reduction : 25
Vignette Amount : 0
Shadow Tint : 0
Red Hue : 0
Red Saturation : 0
Green Hue : 0
Green Saturation : 0
Blue Hue : 0
Blue Saturation : 0
Gray Mixer Red : -9
Gray Mixer Orange : -18
Gray Mixer Yellow : -22
Gray Mixer Green : -27
Gray Mixer Aqua : -18
Gray Mixer Blue : +10
Gray Mixer Purple : +16
Gray Mixer Magenta : +4
Split Toning Shadow Hue : 0
Split Toning Shadow Saturation : 0
Split Toning Highlight Hue : 0
Split Toning Highlight Saturation : 0
Split Toning Balance : 0
Parametric Shadows : 0
Parametric Darks : 0
Parametric Lights : 0
Parametric Highlights : 0
Parametric Shadow Split : 25
Parametric Midtone Split : 50
Parametric Highlight Split : 75
Sharpen Radius : +1.0
Sharpen Detail : 25
Sharpen Edge Masking : 0
Post Crop Vignette Amount : 0
Grain Amount : 0
Color Noise Reduction Detail : 50
Color Noise Reduction Smoothness : 50
Lens Profile Enable : 0
Lens Manual Distortion Amount : 0
Perspective Vertical : 0
Perspective Horizontal : 0
Perspective Rotate : 0.0
Perspective Scale : 100
Perspective Aspect : 0
Perspective Upright : Off
Perspective X : 0.00
Perspective Y : 0.00
Auto Lateral CA : 0
Exposure 2012 : +0.84
Contrast 2012 : 0
Highlights 2012 : -37
Shadows 2012 : +67
Whites 2012 : +2
Blacks 2012 : -12
Clarity 2012 : +30
Dehaze : 0
Tone Map Strength : 0
Convert To Grayscale : True
Tone Curve Name : Linear
Tone Curve Name 2012 : Medium Contrast
Camera Profile : Adobe Standard
Lens Profile Setup : LensDefaults
Has Settings : True
Has Crop : False
Already Applied : True
Normalized Crop Corners : 0.0000000000, 0.1137261763, 0.9740331769, 0.0460003875, 0.9486528039, 0.9340389371, 0.0800396502, 0.9944347143
Tone Curve : 0, 0, 255, 255
Tone Curve Red : 0, 0, 255, 255
Tone Curve Green : 0, 0, 255, 255
Tone Curve Blue : 0, 0, 255, 255
Tone Curve PV2012 : 0, 0, 32, 22, 64, 56, 128, 128, 192, 196, 255, 255
Tone Curve PV2012 Red : 0, 0, 255, 255
Tone Curve PV2012 Green : 0, 0, 255, 255
Tone Curve PV2012 Blue : 0, 0, 255, 255
Image Width : 400
Image Height : 265
Bits Per Sample : 8
Color Components : 1
Aperture : 2.8
Image Size : 400x265
Megapixels : 0.106
Shutter Speed : 1/125
Light Value : 6.9
Lens ID : Summicron 1:2/50 Leitz