Uber Exif Photo
Make : SONY
Camera Model Name : SLT-A99V
Software : Adobe Photoshop Lightroom 5.3 (Windows)
Modify Date : 2014:03:13 17:47:07
Exposure Time : 1/1000
F Number : 4.0
Exposure Program : Aperture-priority AE
ISO : 320
Sensitivity Type : Recommended Exposure Index
Recommended Exposure Index : 320
Date/Time Original : 2014:03:14 11:21:31
Create Date : 2014:03:14 11:21:31
Shutter Speed Value : 1/1000
Aperture Value : 4.0
Brightness Value : 7.30234375
Exposure Compensation : 0
Max Aperture Value : 1.4
Metering Mode : Multi-segment
Light Source : Unknown
Flash : Off, Did not fire
Focal Length : 50.0 mm
Color Space : sRGB
Scene Type : Directly photographed
Custom Rendered : Normal
Exposure Mode : Auto
White Balance : Auto
Digital Zoom Ratio : 1
Focal Length In 35mm Format : 50 mm
Scene Capture Type : Standard
Contrast : Normal
Saturation : Normal
Sharpness : Normal
Lens Info : 50mm f/1.4
Lens Model : 50mm F1.4 ZA SSM
Creator Tool : Adobe Photoshop Lightroom 5.3 (Windows)
Lens : 50mm F1.4 ZA SSM
Lens Distort Info : 33024/32768 -26357995/1073741824 -3735718/1073741824 1507669/1073741824
Date Created : 2014:03:14 11:21:31
Format : image/jpeg
Version : 8.3
Process Version : 6.7
Auto White Version : 134348800
Color Temperature : 5050
Tint : -1
Luminance Smoothing : 0
Color Noise Reduction : 25
Vignette Amount : 0
Shadow Tint : 0
Red Hue : 0
Red Saturation : 0
Green Hue : 0
Green Saturation : 0
Blue Hue : 0
Blue Saturation : 0
Gray Mixer Red : -9
Gray Mixer Orange : -18
Gray Mixer Yellow : -22
Gray Mixer Green : -26
Gray Mixer Aqua : -18
Gray Mixer Blue : +10
Gray Mixer Purple : +16
Gray Mixer Magenta : +5
Split Toning Shadow Hue : 0
Split Toning Shadow Saturation : 0
Split Toning Highlight Hue : 0
Split Toning Highlight Saturation : 0
Split Toning Balance : 0
Parametric Shadows : 0
Parametric Darks : 0
Parametric Lights : 0
Parametric Highlights : 0
Parametric Shadow Split : 25
Parametric Midtone Split : 50
Parametric Highlight Split : 75
Sharpen Radius : +1.0
Sharpen Detail : 25
Sharpen Edge Masking : 0
Post Crop Vignette Amount : 0
Grain Amount : 0
Color Noise Reduction Detail : 50
Color Noise Reduction Smoothness : 50
Lens Profile Enable : 0
Lens Manual Distortion Amount : 0
Perspective Vertical : 0
Perspective Horizontal : 0
Perspective Rotate : 0.0
Perspective Scale : 100
Perspective Aspect : 0
Perspective Upright : Off
Auto Lateral CA : 0
Exposure 2012 : +0.34
Contrast 2012 : +2
Highlights 2012 : -10
Shadows 2012 : +56
Whites 2012 : +21
Blacks 2012 : -7
Clarity 2012 : +45
Convert To Grayscale : True
Tone Curve Name 2012 : Strong Contrast
Camera Profile : Adobe Standard
Lens Profile Setup : LensDefaults
Has Settings : True
Crop Top : 0.041758
Crop Left : 0.058037
Crop Bottom : 0.886807
Crop Right : 0.945352
Crop Angle : -1.27812
Crop Constrain To Warp : 0
Has Crop : True
Already Applied : True
Tone Curve PV2012 : 0, 0, 32, 16, 64, 50, 128, 128, 192, 202, 255, 255
Tone Curve PV2012 Red : 0, 0, 255, 255
Tone Curve PV2012 Green : 0, 0, 255, 255
Tone Curve PV2012 Blue : 0, 0, 255, 255
Paint Correction What : Correction
Paint Correction Amount : 1.000000
Paint Correction Active : true
Paint Correction Saturation : 0.000000
Paint Correction Sharpness : 0.000000
Paint Correction Brightness : 0.000000
Paint Correction Toning Hue : 240.000000
Paint Correction Toning Saturation : 0.000000
Paint Correction Exposure 2012 : 0.000000
Paint Correction Contrast 2012 : 0.000000
Paint Correction Highlights 2012 : 0.000000
Paint Correction Shadows 2012 : 0.214290
Paint Correction Clarity 2012 : 0.000000
Paint Correction Luminance Noise : 0.000000
Paint Correction Moire : 0.000000
Paint Correction Defringe : 0.000000
Paint Correction Temperature : 0.000000
Paint Correction Tint : 0.000000
Paint Correction Mask What : Mask/Paint
Paint Correction Mask Value : 0.907000
Paint Correction Mask Radius : 0.130705
Paint Correction Mask Flow : 0.816000
Paint Correction Mask Center Weight : 0.098225
Image Width : 400
Image Height : 267
Bits Per Sample : 8
Color Components : 1
Aperture : 4.0
Image Size : 400x267
Megapixels : 0.107
Scale Factor To 35 mm Equivalent : 1.0
Shutter Speed : 1/1000
Circle Of Confusion : 0.030 mm
Field Of View : 39.6 deg
Focal Length : 50.0 mm (35 mm equivalent: 50.0 mm)
Hyperfocal Distance : 20.80 m
Light Value : 12.3
Lens ID : Carl Zeiss Planar T* 50mm F1.4 ZA SSM (SAL50F14Z)