Uber Exif Photo
Make : Leica Camera AG
Camera Model Name : LEICA M11-P
Software : Adobe Photoshop Lightroom Classic 15.1.1 (Macintosh)
Modify Date : 2026:01:29 23:14:38
Copyright : Mondo79
Exposure Time : 1/800
F Number : 5.6
Exposure Program : Aperture-priority AE
ISO : 64
Sensitivity Type : Standard Output Sensitivity
Standard Output Sensitivity : 64
ISO Speed : 64
Date/Time Original : 2025:10:30 14:50:07
Create Date : 2025:10:30 14:50:07
Shutter Speed Value : 1/800
Aperture Value : 5.6
Exposure Compensation : 0
Max Aperture Value : 2.8
Metering Mode : Spot
Light Source : Unknown
Flash : No Flash
Focal Length : 28.0 mm
Color Space : sRGB
Scene Type : Directly photographed
Custom Rendered : Normal
Exposure Mode : Auto
White Balance : Auto
Digital Zoom Ratio : 0
Scene Capture Type : Standard
Contrast : Normal
Saturation : Normal
Sharpness : Normal
Serial Number : 5960043
Lens Info : 28mm f/2.8
Lens Make : Canon
Lens Model : Canon 50mm f1.8 LTM
Copyright Notice : Mondo79
Profile Description : sRGB IEC61966-2.1
Approximate Focus Distance : 1.95
Lateral Chromatic Aberration Correction Already Applied:
True
Lens : Elmarit-M 1:2.8/28
Format : image/jpeg
Rights : Mondo79
Date Created : 2025:10:30 14:50:07
Creator Tool : Adobe Photoshop Lightroom Classic 15.1.1 (Macintosh)
Pick : 0
Apply Automatically : False
Correction Already Applied : False
Focal Length 35mm : 28.0000000000
Normalized Crop Corners : 0.0166361574, 0.0630086064, 0.9554132819, 0.0000000000, 0.9785843491, 0.9343196153, 0.0491880401, 0.9966986179
Pitch Angle : -0.7179999947
Roll Angle : 2.5620000362
Scaling Factor Height : 0.9350063204
Target Aspect Ratio : 1.5000000000
Valid Crop Corners : True
Derived From Version ID : 02.00
Preserved File Name : MP100309.DNG
Version ID : 02.00
Already Applied : True
Auto Lateral CA : 1
Blacks 2012 : -20
Blue Hue : 0
Blue Saturation : 0
Camera Profile : Adobe Standard
Clarity 2012 : 0
Color Grade Blending : 50
Color Grade Global Hue : 0
Color Grade Global Lum : 0
Color Grade Global Sat : 0
Color Grade Highlight Lum : 0
Color Grade Midtone Hue : 0
Color Grade Midtone Lum : 0
Color Grade Midtone Sat : 0
Color Grade Shadow Lum : 0
Color Noise Reduction : 25
Color Noise Reduction Detail : 50
Color Noise Reduction Smoothness : 50
Color Variance : -50.000000
Contrast 2012 : 0
Crop Angle : -0.1
Crop Bottom : 0.619838
Crop Constrain To Unit Square : 1
Crop Constrain To Warp : 0
Crop Left : 0.367464
Crop Right : 0.737772
Crop Top : 0.25093
Dehaze : 0
Exposure 2012 : 0.00
Grain Amount : 0
Gray Mixer Aqua : 0
Gray Mixer Blue : 0
Gray Mixer Green : 0
Gray Mixer Magenta : 0
Gray Mixer Orange : 0
Gray Mixer Purple : 0
Gray Mixer Red : 0
Gray Mixer Yellow : 0
Green Hue : 0
Green Saturation : 0
HDR Edit Mode : 0
Has Crop : True
Has Settings : True
Highlights 2012 : +50
Lens Manual Distortion Amount : 0
Lens Profile Enable : 1
Lens Profile Setup : Custom
Look Amount : 1
Look Copyright : © 2018 Adobe Systems, Inc.
Look Group : Profiles
Look Name : Adobe Monochrome
Look Parameters Camera Profile : Adobe Standard
Look Parameters Clarity 2012 : +8
Look Parameters Color Variance : -50.000000
Look Parameters Convert To Grayscale : True
Look Parameters Look Table : 73ED6C18DDE909DD7EA2D771F5AC282D
Look Parameters Point Colors : -1.000000, -1.000000, -1.000000, -1.000000, -1.000000, -1.000000, -1.000000, -1.000000, -1.000000, -1.000000, -1.000000, -1.000000, -1.000000, -1.000000, -1.000000, -1.000000, -1.000000, -1.000000, -1.000000
Look Parameters Process Version : 15.4
Look Parameters Tone Curve PV2012 : 0, 0, 64, 56, 128, 128, 192, 197, 255, 255
Look Parameters Tone Curve PV2012 Blue : 0, 0, 255, 255
Look Parameters Tone Curve PV2012 Green : 0, 0, 255, 255
Look Parameters Tone Curve PV2012 Red : 0, 0, 255, 255
Look Parameters Version : 18.1
Look Supports Amount : false
Look Supports Monochrome : false
Look Supports Output Referred : false
Luminance Noise Reduction Contrast : 0
Luminance Noise Reduction Detail : 50
Luminance Smoothing : 5
Override Look Vignette : False
Parametric Darks : -6
Parametric Highlight Split : 75
Parametric Highlights : -9
Parametric Lights : +21
Parametric Midtone Split : 50
Parametric Shadow Split : 25
Parametric Shadows : +13
Perspective Aspect : 0
Perspective Horizontal : 0
Perspective Rotate : 0.0
Perspective Scale : 100
Perspective Upright : Off
Perspective Vertical : 0
Perspective X : 0.00
Perspective Y : 0.00
Point Colors : -1.000000, -1.000000, -1.000000, -1.000000, -1.000000, -1.000000, -1.000000, -1.000000, -1.000000, -1.000000, -1.000000, -1.000000, -1.000000, -1.000000, -1.000000, -1.000000, -1.000000, -1.000000, -1.000000
Post Crop Vignette Amount : 0
Process Version : 15.4
Raw File Name : MP100309.DNG
Red Hue : 0
Red Saturation : 0
Shadow Tint : 0
Shadows 2012 : +21
Sharpen Detail : 25
Sharpen Edge Masking : 0
Sharpen Radius : +1.0
Split Toning Balance : 0
Split Toning Highlight Hue : 0
Split Toning Highlight Saturation : 0
Split Toning Shadow Hue : 0
Split Toning Shadow Saturation : 0
Color Temperature : 4950
Texture : 0
Tint : +22
Tone Curve Name 2012 : Linear
Tone Curve PV2012 : 0, 0, 255, 255
Tone Curve PV2012 Blue : 0, 0, 255, 255
Tone Curve PV2012 Green : 0, 0, 255, 255
Tone Curve PV2012 Red : 0, 0, 255, 255
Version : 18.1
Vignette Amount : 0
Whites 2012 : +10
Image Width : 400
Image Height : 266
Bits Per Sample : 8
Color Components : 3
Aperture : 5.6
Image Size : 400x266
Megapixels : 0.106
Scale Factor To 35 mm Equivalent : 23.8
Shutter Speed : 1/800
Modify Date : 2026:01:29 23:14:38+01:00
Circle Of Confusion : 0.001 mm
Depth Of Field : 0.07 m (1.92 - 1.98 m)
Field Of View : 3.1 deg
Focal Length : 28.0 mm (35 mm equivalent: 666.7 mm)
Hyperfocal Distance : 110.95 m
Light Value : 15.3
Lens ID : Canon 50mm f1.8 LTM