Uber Exif Photo
Make : Canon
Camera Model Name : Canon EOS 5D Mark III
Software : Adobe Photoshop Lightroom 5.6 (Windows)
Modify Date : 2019:03:25 20:59:04
Artist : Pro
Exposure Time : 1/500
F Number : 5.6
Exposure Program : Manual
ISO : 400
Date/Time Original : 2019:03:10 12:53:39
Create Date : 2019:03:10 12:53:39
Shutter Speed Value : 1/500
Aperture Value : 5.6
Exposure Compensation : 0
Max Aperture Value : 2.0
Metering Mode : Spot
Flash : Off, Did not fire
Focal Length : 50.0 mm
Color Space : sRGB
Custom Rendered : Normal
Exposure Mode : Manual
White Balance : Manual
Scene Capture Type : Standard
Sensitivity Type : Recommended Exposure Index
Recommended Exposure Index : 400
Owner Name : Pro
Serial Number : 083024004329
Lens Info : 50mm f/?
Lens Model : Zeiss Makro-Planar T* 2/50 ZE
Lens Serial Number : 0000000000
Creator Tool : Adobe Photoshop Lightroom 5.6 (Windows)
Format : image/jpeg
Lens : Zeiss Makro-Planar T* 2/50 ZE
Image Number : 0
Flash Compensation : 0
Firmware : 1.3.5
Date Created : 2019:03:10 12:53:39.00
Version : 8.6
Process Version : 6.7
Auto White Version : 134348800
Color Temperature : 5200
Tint : +5
Saturation : +14
Sharpness : 97
Luminance Smoothing : 0
Color Noise Reduction : 85
Vignette Amount : 0
Shadow Tint : 0
Red Hue : 0
Red Saturation : 0
Green Hue : 0
Green Saturation : 0
Blue Hue : 0
Blue Saturation : 0
Vibrance : +36
Hue Adjustment Red : 0
Hue Adjustment Orange : 0
Hue Adjustment Yellow : 0
Hue Adjustment Green : 0
Hue Adjustment Aqua : 0
Hue Adjustment Blue : 0
Hue Adjustment Purple : 0
Hue Adjustment Magenta : 0
Saturation Adjustment Red : 0
Saturation Adjustment Orange : 0
Saturation Adjustment Yellow : 0
Saturation Adjustment Green : 0
Saturation Adjustment Aqua : 0
Saturation Adjustment Blue : 0
Saturation Adjustment Purple : 0
Saturation Adjustment Magenta : 0
Luminance Adjustment Red : 0
Luminance Adjustment Orange : 0
Luminance Adjustment Yellow : 0
Luminance Adjustment Green : 0
Luminance Adjustment Aqua : 0
Luminance Adjustment Blue : 0
Luminance Adjustment Purple : 0
Luminance Adjustment Magenta : 0
Split Toning Shadow Hue : 0
Split Toning Shadow Saturation : 0
Split Toning Highlight Hue : 0
Split Toning Highlight Saturation : 0
Split Toning Balance : 0
Parametric Shadows : 0
Parametric Darks : 0
Parametric Lights : 0
Parametric Highlights : 0
Parametric Shadow Split : 25
Parametric Midtone Split : 50
Parametric Highlight Split : 75
Sharpen Radius : +1.0
Sharpen Detail : 0
Sharpen Edge Masking : 0
Post Crop Vignette Amount : 0
Grain Amount : 0
Color Noise Reduction Detail : 50
Color Noise Reduction Smoothness : 50
Lens Profile Enable : 0
Lens Manual Distortion Amount : 0
Perspective Vertical : 0
Perspective Horizontal : 0
Perspective Rotate : 0.0
Perspective Scale : 100
Perspective Aspect : 0
Perspective Upright : Off
Auto Lateral CA : 0
Exposure 2012 : -0.46
Contrast 2012 : -2
Highlights 2012 : -100
Shadows 2012 : +2
Whites 2012 : +45
Blacks 2012 : -5
Clarity 2012 : +7
Defringe Purple Amount : 0
Defringe Purple Hue Lo : 30
Defringe Purple Hue Hi : 70
Defringe Green Amount : 0
Defringe Green Hue Lo : 40
Defringe Green Hue Hi : 60
Convert To Grayscale : False
Tone Curve Name : Linear
Tone Curve Name 2012 : Linear
Camera Profile : Adobe Standard
Lens Profile Setup : LensDefaults
Has Settings : True
Crop Top : 0.039215
Crop Left : 0.029878
Crop Bottom : 0.854341
Crop Right : 0.845004
Crop Angle : 0
Crop Constrain To Warp : 0
Has Crop : True
Already Applied : True
Creator : Pro
Tone Curve : 0, 0, 255, 255
Tone Curve Red : 0, 0, 255, 255
Tone Curve Green : 0, 0, 255, 255
Tone Curve Blue : 0, 0, 255, 255
Tone Curve PV2012 : 0, 0, 255, 255
Tone Curve PV2012 Red : 0, 0, 255, 255
Tone Curve PV2012 Green : 0, 0, 255, 255
Tone Curve PV2012 Blue : 0, 0, 255, 255
Profile Description : sRGB IEC61966-2.1
Image Width : 400
Image Height : 267
Bits Per Sample : 8
Color Components : 3
Aperture : 5.6
Image Size : 400x267
Megapixels : 0.107
Scale Factor To 35 mm Equivalent : 14.4
Shutter Speed : 1/500
Create Date : 2019:03:10 12:53:39.00
Date/Time Original : 2019:03:10 12:53:39.00
Circle Of Confusion : 0.002 mm
Field Of View : 2.9 deg
Focal Length : 50.0 mm (35 mm equivalent: 719.7 mm)
Hyperfocal Distance : 213.87 m
Light Value : 11.9
Lens ID : Carl Zeiss Makro-Planar T* 50mm f/2 ZE