Uber Exif Photo
Make : Nikon
Camera Model Name : Nikon SUPER COOLSCAN 9000 ED
Software : Adobe Photoshop Lightroom Classic 14.5.1 (Macintosh)
Modify Date : 2025:10:14 07:23:15
Create Date : 2012:04:12 01:19:48
Color Space : sRGB
Keywords : 135, 2012-0075, 50mm 1.4, Canon L1, Tri-X
Profile Description : sRGB IEC61966-2.1
Creator Tool : Adobe Photoshop Lightroom Classic 14.5.1 (Macintosh)
Format : image/jpeg
Preserved File Name : 2012-0075 011.tif
Good : true
Pick : 1
Raw File Name : 2012-0075 011.tif
Version : 17.5
Process Version : 15.4
Exposure 2012 : 0.00
Contrast 2012 : 0
Highlights 2012 : -51
Shadows 2012 : +10
Whites 2012 : +30
Blacks 2012 : -100
Texture : 0
Clarity 2012 : 0
Dehaze : 0
Parametric Shadows : 0
Parametric Darks : 0
Parametric Lights : 0
Parametric Highlights : 0
Parametric Shadow Split : 25
Parametric Midtone Split : 50
Parametric Highlight Split : 75
Sharpness : 0
Luminance Smoothing : 0
Split Toning Shadow Hue : 0
Split Toning Shadow Saturation : 0
Split Toning Highlight Hue : 0
Split Toning Highlight Saturation : 0
Split Toning Balance : 0
Color Grade Midtone Hue : 0
Color Grade Midtone Sat : 0
Color Grade Shadow Lum : 0
Color Grade Midtone Lum : 0
Color Grade Highlight Lum : 0
Color Grade Blending : 50
Color Grade Global Hue : 0
Color Grade Global Sat : 0
Color Grade Global Lum : 0
Lens Profile Enable : 0
Lens Manual Distortion Amount : 0
Vignette Amount : 0
Perspective Upright : Off
Perspective Vertical : 0
Perspective Horizontal : 0
Perspective Rotate : 0.0
Perspective Aspect : 0
Perspective Scale : 100
Perspective X : 0.00
Perspective Y : 0.00
Grain Amount : 0
Post Crop Vignette Amount : 0
HDR Edit Mode : 0
Override Look Vignette : False
Tone Curve Name 2012 : Linear
Has Settings : True
Crop Top : 0.039934
Crop Left : 0.019967
Crop Bottom : 0.970555
Crop Right : 0.950588
Crop Angle : 0
Crop Constrain To Warp : 0
Crop Constrain To Unit Square : 1
Has Crop : True
Already Applied : True
Subject : 135, 2012-0075, 50mm 1.4, Canon L1, Tri-X
Weighted Flat Subject : 2012-0075, Tri-X, 135, Canon L1, 50mm 1.4
Tone Curve PV2012 : 0, 0, 255, 255
Tone Curve PV2012 Red : 0, 0, 255, 255
Tone Curve PV2012 Green : 0, 0, 255, 255
Tone Curve PV2012 Blue : 0, 0, 255, 255
Point Colors : -1.000000, -1.000000, -1.000000, -1.000000, -1.000000, -1.000000, -1.000000, -1.000000, -1.000000, -1.000000, -1.000000, -1.000000, -1.000000, -1.000000, -1.000000, -1.000000, -1.000000, -1.000000, -1.000000
Color Variance : -50.000000
Image Width : 400
Image Height : 271
Bits Per Sample : 8
Color Components : 3
Image Size : 400x271
Megapixels : 0.108
Create Date : 2012:04:12 01:19:48-04:00
Modify Date : 2025:10:14 07:23:15-04:00